BEGIN:VCALENDAR
VERSION:2.0
PRODID:-//CRASA - ECPv6.6.3//NONSGML v1.0//EN
CALSCALE:GREGORIAN
METHOD:PUBLISH
X-WR-CALNAME:CRASA
X-ORIGINAL-URL:https://events.crasa.org
X-WR-CALDESC:Events for CRASA
REFRESH-INTERVAL;VALUE=DURATION:PT1H
X-Robots-Tag:noindex
X-PUBLISHED-TTL:PT1H
BEGIN:VTIMEZONE
TZID:UTC
BEGIN:STANDARD
TZOFFSETFROM:+0000
TZOFFSETTO:+0000
TZNAME:UTC
DTSTART:20240101T000000
END:STANDARD
END:VTIMEZONE
BEGIN:VEVENT
DTSTART;VALUE=DATE:20240522
DTEND;VALUE=DATE:20240525
DTSTAMP:20260420T065701
CREATED:20240504T185022Z
LAST-MODIFIED:20240513T063104Z
UID:10000003-1716336000-1716595199@events.crasa.org
SUMMARY:1st Electronic Communications Committee
DESCRIPTION:HOST COUNTRY : Dar Es Salaam\n\nJavascript is disabledJavascript is disabled on your browser. Please enable it in order to use this form. \nLoading\n\nInvalid IDPlease check the code.
URL:https://events.crasa.org/event/1st-electronic-communications-committee/
LOCATION:Dar Es Salaam\, Dar Es Salam
CATEGORIES:Meeting
ORGANIZER;CN="CRASA":MAILTO:crasa@crasa.org
END:VEVENT
BEGIN:VEVENT
DTSTART;VALUE=DATE:20240520
DTEND;VALUE=DATE:20240522
DTSTAMP:20260420T065701
CREATED:20240504T184243Z
LAST-MODIFIED:20240507T124033Z
UID:10000002-1716163200-1716335999@events.crasa.org
SUMMARY:Workshop on Emerging issues on Spectrum Planning and Management
DESCRIPTION:HOST COUNTRY : Dar Es Salaam \n\nJavascript is disabledJavascript is disabled on your browser. Please enable it in order to use this form. \nLoading\n\nInvalid IDPlease check the code.
URL:https://events.crasa.org/event/workshop-on-emerging-issues-on-spectrum-planning-and-management/
LOCATION:Dar Es Salaam\, Dar Es Salam
CATEGORIES:Workshop
ORGANIZER;CN="CRASA":MAILTO:crasa@crasa.org
END:VEVENT
END:VCALENDAR