BEGIN:VCALENDAR
VERSION:2.0
PRODID:-//CRASA - ECPv6.6.3//NONSGML v1.0//EN
CALSCALE:GREGORIAN
METHOD:PUBLISH
X-WR-CALNAME:CRASA
X-ORIGINAL-URL:https://events.crasa.org
X-WR-CALDESC:Events for CRASA
REFRESH-INTERVAL;VALUE=DURATION:PT1H
X-Robots-Tag:noindex
X-PUBLISHED-TTL:PT1H
BEGIN:VTIMEZONE
TZID:UTC
BEGIN:STANDARD
TZOFFSETFROM:+0000
TZOFFSETTO:+0000
TZNAME:UTC
DTSTART:20250101T000000
END:STANDARD
END:VTIMEZONE
BEGIN:VEVENT
DTSTART;VALUE=DATE:20250210
DTEND;VALUE=DATE:20250213
DTSTAMP:20260419T183849
CREATED:20250124T162721Z
LAST-MODIFIED:20250124T164017Z
UID:10000040-1739145600-1739404799@events.crasa.org
SUMMARY:Invitation to the 2nd Meeting of Human Resource Development Committee (HRDC) 2024/25
DESCRIPTION:[vc_row][vc_column width=”1/2″][vc_column_text]The meeting\, organized by the Communications Regulators’ Association of Southern Africa (CRASA)\, will take place at the CRASA Secretariat in Gaborone\, Botswana. It aims to discuss key human resource management issues for submission to the 41st Executive Committee (EXCO) meeting. The agenda includes topics such as job evaluation\, revised performance management policy\, and capacity building initiatives.[/vc_column_text][/vc_column][vc_column width=”1/2″][vc_column_text]PLACE: CRASA Secretariat\, Gaborone International Finance Park\, Gaborone\, Botswana.\nDATE: 10th to 12th February 2025[/vc_column_text][/vc_column][/vc_row][vc_row css=”.vc_custom_1725614513379{margin-top: 30px !important;margin-bottom: 30px !important;}”][vc_column width=”1/2″]\n	Download Details\n    [vc_empty_space height=”10px”]\n	Register\n    [/vc_column][vc_column width=”1/2″][/vc_column][/vc_row]
URL:https://events.crasa.org/event/invitation-to-the-2nd-meeting-of-human-resource-development-committee-hrdc-2024-25/
LOCATION:Gaborone\, Botswana
CATEGORIES:Meeting
ORGANIZER;CN="CRASA":MAILTO:crasa@crasa.org
END:VEVENT
END:VCALENDAR