BEGIN:VCALENDAR
VERSION:2.0
PRODID:-//CRASA - ECPv6.6.3//NONSGML v1.0//EN
CALSCALE:GREGORIAN
METHOD:PUBLISH
X-WR-CALNAME:CRASA
X-ORIGINAL-URL:https://events.crasa.org
X-WR-CALDESC:Events for CRASA
REFRESH-INTERVAL;VALUE=DURATION:PT1H
X-Robots-Tag:noindex
X-PUBLISHED-TTL:PT1H
BEGIN:VTIMEZONE
TZID:UTC
BEGIN:STANDARD
TZOFFSETFROM:+0000
TZOFFSETTO:+0000
TZNAME:UTC
DTSTART:20240101T000000
END:STANDARD
END:VTIMEZONE
BEGIN:VEVENT
DTSTART;TZID=UTC:20241008T080000
DTEND;TZID=UTC:20241008T170000
DTSTAMP:20260419T225149
CREATED:20240808T145235Z
LAST-MODIFIED:20240820T151951Z
UID:10000030-1728374400-1728406800@events.crasa.org
SUMMARY:40TH ORDINARY MEETING OF THE EXECUTIVE COMMITTEE 7th TO 9TH OCTOBER 2024
DESCRIPTION:[vc_row][vc_column][vc_column_text]The Communications Regulators’ Association of Southern Africa (CRASA) will convene the 40th Ordinary Meeting of the CRASA Executive Committee (EXCO) from the 7th to 9th October 2024 in Mbabane\, Kingdom of Eswatini from 09:00 hours to 17:00 hours daily. \nFor more information\, kindly contact crasa@crasa.org or call +267 3158468.[/vc_column_text][/vc_column][/vc_row][vc_row][vc_column width=”1/3″][vc_empty_space]\n	Register\n    [vc_empty_space][/vc_column][vc_column width=”1/3″][/vc_column][vc_column width=”1/3″][/vc_column][/vc_row]
URL:https://events.crasa.org/event/40th-ordinary-meeting-of-the-executive-committee-7th-to-9th-october-2024/2024-10-08/
LOCATION:Eswatini\, Eswatini\, Swaziland
ORGANIZER;CN="CRASA":MAILTO:crasa@crasa.org
END:VEVENT
END:VCALENDAR